BEGIN:VCALENDAR
VERSION:2.0
PRODID:-//Austrian Mantrailing Academy - ECPv6.15.12.2//NONSGML v1.0//EN
CALSCALE:GREGORIAN
METHOD:PUBLISH
X-WR-CALNAME:Austrian Mantrailing Academy
X-ORIGINAL-URL:http://www.mantrailing.at/wpm
X-WR-CALDESC:Veranstaltungen für Austrian Mantrailing Academy
REFRESH-INTERVAL;VALUE=DURATION:PT1H
X-Robots-Tag:noindex
X-PUBLISHED-TTL:PT1H
BEGIN:VTIMEZONE
TZID:Europe/Vienna
BEGIN:DAYLIGHT
TZOFFSETFROM:+0100
TZOFFSETTO:+0200
TZNAME:CEST
DTSTART:20250330T010000
END:DAYLIGHT
BEGIN:STANDARD
TZOFFSETFROM:+0200
TZOFFSETTO:+0100
TZNAME:CET
DTSTART:20251026T010000
END:STANDARD
BEGIN:DAYLIGHT
TZOFFSETFROM:+0100
TZOFFSETTO:+0200
TZNAME:CEST
DTSTART:20260329T010000
END:DAYLIGHT
BEGIN:STANDARD
TZOFFSETFROM:+0200
TZOFFSETTO:+0100
TZNAME:CET
DTSTART:20261025T010000
END:STANDARD
BEGIN:DAYLIGHT
TZOFFSETFROM:+0100
TZOFFSETTO:+0200
TZNAME:CEST
DTSTART:20270328T010000
END:DAYLIGHT
BEGIN:STANDARD
TZOFFSETFROM:+0200
TZOFFSETTO:+0100
TZNAME:CET
DTSTART:20271031T010000
END:STANDARD
END:VTIMEZONE
BEGIN:VEVENT
DTSTART;TZID=Europe/Vienna:20260426T140000
DTEND;TZID=Europe/Vienna:20260426T160000
DTSTAMP:20260425T125730
CREATED:20260116T121001Z
LAST-MODIFIED:20260116T121001Z
UID:1848-1777212000-1777219200@www.mantrailing.at
SUMMARY:Internationaler Tag der Rettungshunde
DESCRIPTION:Wir feiern den internationalen Tag der Rettungshunde.\nPräsentation und Vorführung der Geschicklichkeiten und Fähigkeiten eines Rettungshundes.\nIRO (Internationale Rettungshunde Organisation)
URL:http://www.mantrailing.at/wpm/event/internationaler-tag-der-rettungshunde/
LOCATION:Hauptplatz Leoben\, Hauptplatz\, Leoben\, Steiermark8700\, Austria
END:VEVENT
BEGIN:VEVENT
DTSTART;TZID=Europe/Vienna:20260509T100000
DTEND;TZID=Europe/Vienna:20260509T170000
DTSTAMP:20260425T125730
CREATED:20260116T121417Z
LAST-MODIFIED:20260116T121417Z
UID:1852-1778320800-1778346000@www.mantrailing.at
SUMMARY:Tag der Einsatzorganisationen
DESCRIPTION:Wir nehmen unter dem Zivilschutzverband Steiermark am Tag der Einsatzorganisationen teil \nBezirk Murtal\nOrt: Spielberg \n 
URL:http://www.mantrailing.at/wpm/event/tag-der-einsatzorganisationen/
END:VEVENT
BEGIN:VEVENT
DTSTART;TZID=Europe/Vienna:20260521T080000
DTEND;TZID=Europe/Vienna:20260716T140000
DTSTAMP:20260425T125730
CREATED:20260116T121752Z
LAST-MODIFIED:20260116T121850Z
UID:1855-1779350400-1784210400@www.mantrailing.at
SUMMARY:Sicherheitstag + LF Safety
DESCRIPTION:Wir nehmen unter dem Zivilschutzverband Steiermark am Sicherheitstag teil. \nBezirk Graz\nOrt Graz
URL:http://www.mantrailing.at/wpm/event/sicherheitstag-lf-safety/
END:VEVENT
BEGIN:VEVENT
DTSTART;TZID=Europe/Vienna:20260613T100000
DTEND;TZID=Europe/Vienna:20260613T170000
DTSTAMP:20260425T125730
CREATED:20260116T122120Z
LAST-MODIFIED:20260116T122120Z
UID:1857-1781344800-1781370000@www.mantrailing.at
SUMMARY:Sicherheitstag Waldverband Stmk.
DESCRIPTION:Wir nehmen unter dem Zivilschutzverband Steiermark am Sicherheitstag Waldverband Steiermark teil. \nBezirk Murau\nOrt: St. Georgen am Kreischberg \n 
URL:http://www.mantrailing.at/wpm/event/sicherheitstag-waldverband-stmk/
END:VEVENT
BEGIN:VEVENT
DTSTART;TZID=Europe/Vienna:20260626T080000
DTEND;TZID=Europe/Vienna:20260626T170000
DTSTAMP:20260425T125730
CREATED:20260116T122338Z
LAST-MODIFIED:20260116T122338Z
UID:1859-1782460800-1782493200@www.mantrailing.at
SUMMARY:Sicherheitstag + LFT Ausstellung
DESCRIPTION:Wir nehmen unter dem Zivilschutzverband Steiermark am Sicherheitstag und der LFT Ausstellung teil. \nBezirk: Weiz\nOrt: St. Margarethen an der Raab \n 
URL:http://www.mantrailing.at/wpm/event/sicherheitstag-lft-ausstellung/
END:VEVENT
BEGIN:VEVENT
DTSTART;TZID=Europe/Vienna:20260627T080000
DTEND;TZID=Europe/Vienna:20260627T170000
DTSTAMP:20260425T125730
CREATED:20260116T122451Z
LAST-MODIFIED:20260116T122451Z
UID:1861-1782547200-1782579600@www.mantrailing.at
SUMMARY:Sicherheitstag + LFT Ausstellung
DESCRIPTION:Wir nehmen unter dem Zivilschutzverband Steiermark am Sicherheitstag und der LFT Ausstellung teil. \nBezirk: Weiz\nOrt: St. Margarethen an der Raab \n 
URL:http://www.mantrailing.at/wpm/event/sicherheitstag-lft-ausstellung-2/
END:VEVENT
BEGIN:VEVENT
DTSTART;TZID=Europe/Vienna:20260703T080000
DTEND;TZID=Europe/Vienna:20260703T170000
DTSTAMP:20260425T125730
CREATED:20260116T122609Z
LAST-MODIFIED:20260116T122609Z
UID:1863-1783065600-1783098000@www.mantrailing.at
SUMMARY:Sicherheitstag + LFJLB Austellung
DESCRIPTION:Wir nehmen unter dem Zivilschutzverband Steiermark am Sicherheitstag und der LFJLB Ausstellung teil. \nBezirk: Südoststeiermark\nOrt: Feldbach \n 
URL:http://www.mantrailing.at/wpm/event/sicherheitstag-lfjlb-austellung/
END:VEVENT
BEGIN:VEVENT
DTSTART;TZID=Europe/Vienna:20260704T080000
DTEND;TZID=Europe/Vienna:20260704T170000
DTSTAMP:20260425T125730
CREATED:20260116T122648Z
LAST-MODIFIED:20260116T122648Z
UID:1865-1783152000-1783184400@www.mantrailing.at
SUMMARY:Sicherheitstag + LFJLB Austellung
DESCRIPTION:Wir nehmen unter dem Zivilschutzverband Steiermark am Sicherheitstag und der LFJLB Ausstellung teil. \nBezirk: Südoststeiermark\nOrt: Feldbach \n 
URL:http://www.mantrailing.at/wpm/event/sicherheitstag-lfjlb-austellung-2/
END:VEVENT
BEGIN:VEVENT
DTSTART;TZID=Europe/Vienna:20260905T100000
DTEND;TZID=Europe/Vienna:20260905T170000
DTSTAMP:20260425T125730
CREATED:20260116T122815Z
LAST-MODIFIED:20260116T122815Z
UID:1867-1788602400-1788627600@www.mantrailing.at
SUMMARY:Sicherheitstag
DESCRIPTION:Wir nehmen unter dem Zivilschutzverband Steiermark am Sicherheitstag teil. \nBezirk: Weiz\nOrt: Reichendorf (Mgde. Pichelsdorf) \n 
URL:http://www.mantrailing.at/wpm/event/sicherheitstag/
END:VEVENT
BEGIN:VEVENT
DTSTART;TZID=Europe/Vienna:20260919T100000
DTEND;TZID=Europe/Vienna:20260919T170000
DTSTAMP:20260425T125730
CREATED:20260116T122935Z
LAST-MODIFIED:20260116T122935Z
UID:1869-1789812000-1789837200@www.mantrailing.at
SUMMARY:Sicherheitstag BR Kapfenberg Musik Voest Alpine
DESCRIPTION:Wir nehmen unter dem Zivilschutzverband Steiermark am Sicherheitstag teil. \nBezirk: Bruck an der Mur\nOrt: Kapfenberg \n 
URL:http://www.mantrailing.at/wpm/event/sicherheitstag-br-kapfenberg-musik-voest-alpine/
END:VEVENT
END:VCALENDAR